BEGIN:VCALENDAR
VERSION:2.0
PRODID:icalendar-ruby
CALSCALE:GREGORIAN
METHOD:PUBLISH
BEGIN:VEVENT
DTSTAMP:20260422T103341Z
UID:506-5443594@stclementschurch.ca
DTSTART:20260423T163000Z
DTEND:20260423T193000Z
CLASS:PUBLIC
CREATED:20260416T112051
DESCRIPTION:We’re the Wild Things and we tend the plantings of Creeksi
 de Commons and along the creek.  All levels of gardening experience are
  welcome\, and if you have tools and work gloves please bring them with yo
 u.
LAST-MODIFIED:20260416T112051
LOCATION:St Clement's Anglican Church
SUMMARY:Wild Things Gardening
URL;VALUE=URI:https://www.stclementschurch.ca/events/wild-things-gardening/
 2026-04-23
ATTACH;FILENAME=IMG_0448.jpeg;FMTTYPE=image/jpeg:https://dq5pwpg1q8ru0.clou
 dfront.net/2024/10/11/18/42/41/8c68dc45-6c90-410f-ad0e-22c0ba649151/IMG_04
 48.jpeg
END:VEVENT
END:VCALENDAR
