BEGIN:VCALENDAR
VERSION:2.0
PRODID:icalendar-ruby
CALSCALE:GREGORIAN
METHOD:PUBLISH
BEGIN:VEVENT
DTSTAMP:20260419T201136Z
UID:585-5398404@stclementschurch.ca
DTSTART:20260530T023000Z
DTEND:20260530T040000Z
CLASS:PUBLIC
CREATED:20260413T133950
DESCRIPTION:Sing Without Ceasing is a Diocesan Choir Festival taking place 
 at Christ Church Cathedral on May 29\, 2026 from 7:30-9:00 pm.\nThe evenin
 g will bring together singers from across the Diocese to form a Diocesan M
 ass Choir\, alongside congregational singing\, readings and other elements
  of worship. The festival is being offered in collaboration with Neil Cock
 bourn\, Director of Music at Christ Church Cathedral and will include a gu
 est address from Bishop Michael Curry. \n\nPlease contact Helen if you'd 
 like to join the St Clement's cohort attending this service. Thank you!
LAST-MODIFIED:20260413T133950
LOCATION:Christ Church Cathedral\, 690 Burrard Street
SUMMARY:Sing without ceasing at Christ Church Cathedral
URL;VALUE=URI:https://www.stclementschurch.ca/events/sing-without-ceasing-a
 t-christ-church-cathedral/2026-05-29
ATTACH;FILENAME=Sing Without Ceasing - 2026_Poster_proof 4.jpg;FMTTYPE=imag
 e/jpeg:https://dq5pwpg1q8ru0.cloudfront.net/2026/04/13/20/30/43/d18126fb-0
 c75-41e0-94e2-1c71f1a514f4/Sing%20Without%20Ceasing%20-%202026_Poster_proo
 f%204.jpg
END:VEVENT
END:VCALENDAR
