BEGIN:VCALENDAR
VERSION:2.0
PRODID:icalendar-ruby
CALSCALE:GREGORIAN
METHOD:PUBLISH
BEGIN:VEVENT
DTSTAMP:20260423T153154Z
UID:328-5443615@stclementschurch.ca
DTSTART:20260516T180000Z
DTEND:20260516T213000Z
CLASS:PUBLIC
CREATED:20260416T120027
DESCRIPTION:\n\n\n\n\n\n \nDavid and I appreciate and enjoy doing art of m
 any forms\, and we like to include the social aspect of sharing it with ot
 her people. Our idea to host this event first came from David wanting to b
 e able to have a space to bring other bonsai artists to work on trees and 
 socialize\, but after some further thought\, we decided that it would be m
 ore fun to open it up to everyone- both non-parishioners and parishioners-
  and to expand the types of art that can be done to more than bonsai.\n \
 nIf you don’t know\, bonsai is a Japanese art form that literally means 
 (trees or shrubs) “planted in container” but actually is much more inv
 olved. Trees and shrubs of many species can be used\, and the idea is to m
 imic the natural beauty and structure of large trees but keep them in a mi
 niature form. It is a lot more complicated than it seems\, and a good bons
 ai tree takes many years and a lot of patience and care. David thinks of h
 is trees as friends.\n \nIf you’d like to bring a small shrub or tree t
 o work on\, David or other artists could probably help you. Or you can jus
 t come to watch. If you decide that you’d like to try this hobby\, David
  can help you to find good material.\n \nIn regards to other art forms\, 
 our thoughts are that you can bring whatever you’d like and the material
 s you need to do what you’d like. If you want to include others\, you ca
 n\, but if not\, you don’t have to.\n \nIt would be nice if you could l
 et us know if you’re coming\, but if you decide to drop in at the last m
 inute\, that is also ok. Please let David know at bonsaidave1878@me.com.
  We look forward to seeing anyone that is interested!\n \n\n\n\n \n\n\n
 \n
LAST-MODIFIED:20260416T120027
LOCATION:St. Clement's Church
SUMMARY:Lynn Valley (LV) Bonsai and....?
URL;VALUE=URI:https://www.stclementschurch.ca/events/lynn-valley-lv-bonsai-
 and/2026-05-16
ATTACH;FILENAME=UK_bonsai-tree-pruning-and-training.jpeg;FMTTYPE=image/jpeg
 :https://dq5pwpg1q8ru0.cloudfront.net/2022/02/26/12/20/39/ed7afde9-8ca0-47
 9c-bcb9-c2d143992d08/UK_bonsai-tree-pruning-and-training.jpeg
END:VEVENT
END:VCALENDAR
