BEGIN:VCALENDAR
VERSION:2.0
PRODID:icalendar-ruby
CALSCALE:GREGORIAN
METHOD:PUBLISH
BEGIN:VEVENT
DTSTAMP:20260423T063024Z
UID:587-5544566@stclementschurch.ca
DTSTART:20260425T170000Z
DTEND:20260425T181500Z
CLASS:PUBLIC
CREATED:20260422T170404
DESCRIPTION:A funeral service for Eleanor Parmelee will be held at St. Clem
 ent’s Anglican Church\, 3400 Institute Road\, North Vancouver\, BC V7K 2
 K9 in Lynn Valley\, on Saturday\, April 25th at 10:00 AM. In place of flow
 ers a donation in Eleanor's memory may be made to a charity of your choice
 . \n\nA livestream will be available at www.stclementschurch.ca/live as we
 ll as on Facebook. \n\nNote: Incense will be used at the end of this servi
 ce.\n\nA Celebration of Life will be held on Saturday\, May 9\, 2026\, fro
 m 1:00 to 4:00 p.m. at Balmoral House\, 960 Lynn Valley Road\, North Vanco
 uver\, BC\, V7J 3V6.\n\nEleanor Isabell Parmelee (née Crossley) of North 
 Vancouver passed away peacefully on April 15 at the age of 93. Born Octobe
 r 19\, 1932\, in Ottawa\, Eleanor lived a dynamic life defined by strength
 \, beauty\, and deep devotion to her family. Her careers included sales\, 
 modeling\, and business administration. She was also the founder of the Ot
 tawa Gymnastics Club\, Vice President of the Ontario Gymnastics Federation
 \, and worked with Sport Canada before embracing her most cherished role a
 s a mother. In later years\, she devotedly cared for her mother\, Mary (Mo
 llie) Crossley\, until her passing at age 98.\n\nShe welcomed internationa
 l students into her home\, had a beautiful singing voice\, and was known f
 or hosting unforgettable parties. Her love of travel took her all over the
  world\, and at the age of 92\, she began acting in television commercials
 . Eleanor was predeceased by her father\, Kenneth\; her mother\, Mary\; an
 d her brother\, Ronald. She will be lovingly remembered by her children\, 
 Geoffrey (Carol)\, Margot (Glenn)\, Gail (Sam)\, Sandi\, Nancy\, and Lynda
  (Robert)\; her brother\, Bill Crossley\; and her grandchildren\, Maya\, R
 yan\, Lanaya\, and Owen.
LAST-MODIFIED:20260422T170404
LOCATION:St Clement's Anglican Church\, 3400 Institute Road
SUMMARY:Funeral for Eleanor Parmelee
URL;VALUE=URI:https://www.stclementschurch.ca/events/funeral-for-eleanor-pa
 rmelee/2026-04-25
ATTACH;FILENAME=eleanor parmelee.png;FMTTYPE=image/png:https://dq5pwpg1q8ru
 0.cloudfront.net/2026/04/22/22/20/56/23df2b95-e711-4a72-ba75-709bc5716b68/
 eleanor%20parmelee.png
END:VEVENT
END:VCALENDAR
